BEGIN:VCALENDAR
VERSION:2.0
PRODID:-//Intand Corporation//Tandem//EN
METHOD:PUBLISH
BEGIN:VEVENT
DTSTAMP:20260424T144131Z
DTSTART:20200109T211500Z
DTEND:20200109T221500Z
TRANSP:TRANSPARENT
PRIORITY:0
SUMMARY:LHS - Manifestation - Henderson
LOCATION:LHS Guidance Conference Room
DESCRIPTION:Groups:\nLHS SPED\n\nSchools:\nLiberty High School\n\nLocation
 :\nLHS Guidance Conference Room\n\n
URL;VALUE=URI:http://liberty53.tandem.co/index.php?type=view&action=event&
 id=369271
CREATED:20191218T152045Z
LAST-MODIFIED:20191218T195003Z
UID:event_request-369271-liberty53@intand.com
END:VEVENT
END:VCALENDAR
