BEGIN:VCALENDAR
VERSION:2.0
PRODID:-//Intand Corporation//Tandem//EN
METHOD:PUBLISH
BEGIN:VEVENT
DTSTAMP:20260424T073826Z
DTSTART:20191220T013000Z
DTEND:20191220T030000Z
TRANSP:TRANSPARENT
PRIORITY:0
SUMMARY:LHS-Chad Frigon Workouts
LOCATION:LHS Cokely Gym
DESCRIPTION:Groups:\nLHS Staff\n\nSchools:\nLiberty High School\n\nLocatio
 n:\nLHS Cokely Gym\n\n
URL;VALUE=URI:http://liberty53.tandem.co/index.php?type=view&action=event&
 id=369268
CREATED:20191218T142454Z
LAST-MODIFIED:20191218T142454Z
UID:event-369268-liberty53@intand.com
END:VEVENT
END:VCALENDAR
