BEGIN:VCALENDAR
VERSION:2.0
PRODID:-//Intand Corporation//Tandem//EN
METHOD:PUBLISH
BEGIN:VEVENT
DTSTAMP:20260424T061451Z
DTSTART:20200214T210000Z
DTEND:20200214T233000Z
TRANSP:TRANSPARENT
PRIORITY:0
SUMMARY:LNWWR Practice
LOCATION:LNHS Wrestling Room
DESCRIPTION:Groups:\nLNHS Wrestling - Girls Varsity\n\nSchools:\nLiberty N
 orth High School\n\nLocation:\nLNHS Wrestling Room\n\n
URL;VALUE=URI:http://liberty53.tandem.co/index.php?type=view&action=event&
 id=369252
CREATED:20191217T175314Z
LAST-MODIFIED:20200213T210157Z
UID:event_request-369252-liberty53@intand.com
END:VEVENT
END:VCALENDAR
