BEGIN:VCALENDAR
VERSION:2.0
PRODID:-//Intand Corporation//Tandem//EN
METHOD:PUBLISH
BEGIN:VEVENT
DTSTAMP:20260424T061532Z
DTSTART:20200126T190000Z
DTEND:20200126T203000Z
TRANSP:TRANSPARENT
PRIORITY:0
SUMMARY:RV - KCSG (Einerson)
LOCATION:RE Gym
DESCRIPTION:Groups:\nKCSG Soccer Club\n\nSchools:\nRidgeview Elementary\n\
 nLocation:\nRE Gym\n\n
URL;VALUE=URI:http://liberty53.tandem.co/index.php?type=view&action=event&
 id=369200
CREATED:20191213T210849Z
LAST-MODIFIED:20191213T210849Z
UID:event-369200-liberty53@intand.com
END:VEVENT
END:VCALENDAR
