BEGIN:VCALENDAR
VERSION:2.0
PRODID:-//Intand Corporation//Tandem//EN
METHOD:PUBLISH
BEGIN:VEVENT
DTSTAMP:20260424T054247Z
DTSTART:20200203T213000Z
DTEND:20200203T223000Z
TRANSP:TRANSPARENT
PRIORITY:0
SUMMARY: SC - Bricks 4 Kidz - STEM Enrichment Class
LOCATION:SCE Library
DESCRIPTION:Groups:\nBricks 4 Kidz\n\nSchools:\nShoal Creek Elementary\n\n
 Location:\nSCE Library\n\n
URL;VALUE=URI:http://liberty53.tandem.co/index.php?type=view&action=event&
 id=369182
CREATED:20191213T175146Z
LAST-MODIFIED:20191213T175146Z
UID:event-369182-liberty53@intand.com
END:VEVENT
END:VCALENDAR
