BEGIN:VCALENDAR
VERSION:2.0
PRODID:-//Intand Corporation//Tandem//EN
METHOD:PUBLISH
BEGIN:VEVENT
DTSTAMP:20260424T061506Z
DTSTART:20191219T230000Z
DTEND:20191220T000000Z
TRANSP:TRANSPARENT
PRIORITY:0
SUMMARY:LMS/DMS Winter Guard Rehearsal 
LOCATION:DMS Cafeteria
DESCRIPTION:Groups:\nLHS Color Guard\n\nSchools:\nLiberty High School\nDis
 covery Middle School\n\nLocation:\nDMS Cafeteria\n\n
URL;VALUE=URI:http://liberty53.tandem.co/index.php?type=view&action=event&
 id=369146
CREATED:20191213T154713Z
LAST-MODIFIED:20191213T174652Z
UID:event_request-369146-liberty53@intand.com
END:VEVENT
END:VCALENDAR
