BEGIN:VCALENDAR
VERSION:2.0
PRODID:-//Intand Corporation//Tandem//EN
METHOD:PUBLISH
BEGIN:VEVENT
DTSTAMP:20260424T014515Z
DTSTART:20191212T230000Z
DTEND:20191213T020000Z
TRANSP:TRANSPARENT
PRIORITY:0
SUMMARY:LHS-Football Chad Frigon
LOCATION:LHS Turf Game Field
DESCRIPTION:Groups:\nLHS Football\n\nSchools:\nLiberty High School\n\nLoca
 tion:\nLHS Turf Game Field\n\n
URL;VALUE=URI:http://liberty53.tandem.co/index.php?type=view&action=event&
 id=368992
CREATED:20191210T202716Z
LAST-MODIFIED:20191210T202716Z
UID:event-368992-liberty53@intand.com
END:VEVENT
END:VCALENDAR
