BEGIN:VCALENDAR
VERSION:2.0
PRODID:-//Intand Corporation//Tandem//EN
METHOD:PUBLISH
BEGIN:VEVENT
DTSTAMP:20260424T034928Z
DTSTART:20191210T213000Z
DTEND:20191211T040000Z
TRANSP:TRANSPARENT
PRIORITY:0
SUMMARY:LN Invitational Tournament Broadcasting
LOCATION:LNHS Room 305 - Broadcast Studio
DESCRIPTION:Groups:\nLNHS Grade 9\nLNHS Grade 12\nLNHS Grade 11\nLNHS Grad
 e 10\n\nSchools:\nLiberty North High School\n\nLocation:\nLNHS Room 305 - 
 Broadcast Studio\n\n
URL;VALUE=URI:http://liberty53.tandem.co/index.php?type=view&action=event&
 id=368972
CREATED:20191210T030848Z
LAST-MODIFIED:20191210T235216Z
UID:event_request-368972-liberty53@intand.com
END:VEVENT
END:VCALENDAR
