BEGIN:VCALENDAR
VERSION:2.0
PRODID:-//Intand Corporation//Tandem//EN
METHOD:PUBLISH
BEGIN:VEVENT
DTSTAMP:20260424T053630Z
DTSTART:20191219T143000Z
DTEND:20191219T153000Z
TRANSP:TRANSPARENT
PRIORITY:0
SUMMARY:Debate Class Tournament
LOCATION:DMS Cafeteria
DESCRIPTION:Groups:\nDMS Drama\n\nSchools:\nDiscovery Middle School\n\nLoc
 ation:\nDMS Cafeteria\n\n
URL;VALUE=URI:http://liberty53.tandem.co/index.php?type=view&action=event&
 id=368949
CREATED:20191209T154154Z
LAST-MODIFIED:20191209T170801Z
UID:event_request-368949-liberty53@intand.com
END:VEVENT
END:VCALENDAR
