BEGIN:VCALENDAR
VERSION:2.0
PRODID:-//Intand Corporation//Tandem//EN
METHOD:PUBLISH
BEGIN:VEVENT
DTSTAMP:20260424T014756Z
DTSTART:20191210T000000Z
DTEND:20191210T020000Z
TRANSP:TRANSPARENT
PRIORITY:0
SUMMARY:LNHS Chamber Choir Rehearsals
LOCATION:LNHS Learning Stairs\, LNHS Room 607 Black Box Theater
DESCRIPTION:Groups:\nLNHS Vocal Music\n\nSchools:\nLiberty North High Scho
 ol\n\nLocations:\nLNHS Learning Stairs\nLNHS Room 607 Black Box Theater\n\
 n
URL;VALUE=URI:http://liberty53.tandem.co/index.php?type=view&action=event&
 id=368937
CREATED:20191209T142030Z
LAST-MODIFIED:20191209T192912Z
UID:event_request-368937-liberty53@intand.com
END:VEVENT
END:VCALENDAR
