BEGIN:VCALENDAR
VERSION:2.0
PRODID:-//Intand Corporation//Tandem//EN
METHOD:PUBLISH
BEGIN:VEVENT
DTSTAMP:20260424T031453Z
DTSTART:20191209T140500Z
DTEND:20191209T152500Z
TRANSP:TRANSPARENT
PRIORITY:0
SUMMARY:Writing Studio Meeting
LOCATION:LHS Administrative Conference Room
DESCRIPTION:Per Wickham\n\nSchools:\nLiberty High School\n\nLocation:\nLHS
  Administrative Conference Room\n\n
URL;VALUE=URI:http://liberty53.tandem.co/index.php?type=view&action=event&
 id=368932
CREATED:20191209T133906Z
LAST-MODIFIED:20191209T150259Z
UID:event_request-368932-liberty53@intand.com
END:VEVENT
END:VCALENDAR
