BEGIN:VCALENDAR
VERSION:2.0
PRODID:-//Intand Corporation//Tandem//EN
METHOD:PUBLISH
BEGIN:VEVENT
DTSTAMP:20260424T023609Z
DTSTART:20191209T133000Z
DTEND:20191209T140000Z
TRANSP:TRANSPARENT
PRIORITY:0
SUMMARY:LN Wind Symphony Dress Rehearsal
LOCATION:LNHS Performing Arts Theater (GH HVAC)
DESCRIPTION:Setup: 7:00 am\nBreakdown: 8:30 am\n\nGroups:\nLNHS Band\n\nSc
 hools:\nLiberty North High School\n\nLocation:\nLNHS Performing Arts Theat
 er (GH HVAC)\n\n
URL;VALUE=URI:http://liberty53.tandem.co/index.php?type=view&action=event&
 id=368731
CREATED:20191203T152352Z
LAST-MODIFIED:20191203T152657Z
UID:event_request-368731-liberty53@intand.com
END:VEVENT
END:VCALENDAR
