BEGIN:VCALENDAR
VERSION:2.0
PRODID:-//Intand Corporation//Tandem//EN
METHOD:PUBLISH
BEGIN:VEVENT
DTSTAMP:20260424T023608Z
DTSTART:20191209T134000Z
DTEND:20191209T140000Z
TRANSP:TRANSPARENT
PRIORITY:0
SUMMARY:LHS - Elliott - Parent Meeting
LOCATION:LHS Administrative Conference Room
DESCRIPTION:Groups:\nLHS SPED\n\nSchools:\nLiberty High School\n\nLocation
 :\nLHS Administrative Conference Room\n\n
URL;VALUE=URI:http://liberty53.tandem.co/index.php?type=view&action=event&
 id=368641
CREATED:20191202T172642Z
LAST-MODIFIED:20191202T215428Z
UID:event_request-368641-liberty53@intand.com
END:VEVENT
END:VCALENDAR
