BEGIN:VCALENDAR
VERSION:2.0
PRODID:-//Intand Corporation//Tandem//EN
METHOD:PUBLISH
BEGIN:VEVENT
DTSTAMP:20260424T053705Z
DTSTART:20191203T180000Z
DTEND:20191203T200000Z
TRANSP:TRANSPARENT
PRIORITY:0
SUMMARY:SPED testing: Conf. Suite 2
LOCATION:SVMS Conference Suite II
DESCRIPTION:Groups:\nSVMS Staff\n\nSchools:\nSouth Valley Middle School\n\
 nLocation:\nSVMS Conference Suite II\n\n
URL;VALUE=URI:http://liberty53.tandem.co/index.php?type=view&action=event&
 id=368618
CREATED:20191126T160849Z
LAST-MODIFIED:20191205T194111Z
UID:event_request-368618-liberty53@intand.com
END:VEVENT
END:VCALENDAR
