BEGIN:VCALENDAR
VERSION:2.0
PRODID:-//Intand Corporation//Tandem//EN
METHOD:PUBLISH
BEGIN:VEVENT
DTSTAMP:20260424T040709Z
DTSTART:20191218T233000Z
DTEND:20191219T003000Z
TRANSP:TRANSPARENT
PRIORITY:0
SUMMARY:Early Bird Dawn Chorus Presents "The Best Time of The Year" Holida
 y Cheer Music Program
LOCATION:LHS Blue Jay Junction\, LHS The Nest\, LHS LMC Main Floor
DESCRIPTION:Early Bird Dawn Chorus Presents\, "The Best Time of The Year" 
 Holiday Cheer Music Program\n\nSetup: 4:00 pm\nBreakdown: 7:30 pm\n\nGroup
 s:\nLHS Blue Jay Junction\n\nSchools:\nLiberty High School\n\nLocations:\n
 LHS Blue Jay Junction\nLHS The Nest\nLHS LMC Main Floor\n\nContacts:\nAmy 
 Mallams\nBridget Stark\nRedacted Redacted\nAmy Mallams\n\nSupervisors:\nAm
 y Mallams\nRedacted Redacted\nAmy Mallams\n\nEarly Bird Dawn Chorus Presen
 ts "The Best Time of The Year" Holiday Cheer Music Program\n\nWe will need
 :\n\ntwo microphones with stands\n\naudio projection\n\nclicker\n\nboth sc
 reens pulled down\n\nchairs\n\n
URL;VALUE=URI:http://liberty53.tandem.co/index.php?type=view&action=event&
 id=368613
CREATED:20191126T023511Z
LAST-MODIFIED:20191126T161440Z
UID:event_request-368613-liberty53@intand.com
END:VEVENT
END:VCALENDAR
