BEGIN:VCALENDAR
VERSION:2.0
PRODID:-//Intand Corporation//Tandem//EN
METHOD:PUBLISH
BEGIN:VEVENT
DTSTAMP:20260424T014809Z
DTSTART:20191120T180000Z
DTEND:20191120T210000Z
TRANSP:TRANSPARENT
PRIORITY:0
SUMMARY:LN Tara Harvey meeting
LOCATION:LNHS Room 707
DESCRIPTION:Groups:\nLNHS Staff\n\nSchools:\nLiberty North High School\n\n
 Location:\nLNHS Room 707\n\n
URL;VALUE=URI:http://liberty53.tandem.co/index.php?type=view&action=event&
 id=368249
CREATED:20191118T153241Z
LAST-MODIFIED:20191118T153241Z
UID:event-368249-liberty53@intand.com
END:VEVENT
END:VCALENDAR
