BEGIN:VCALENDAR
VERSION:2.0
PRODID:-//Intand Corporation//Tandem//EN
METHOD:PUBLISH
BEGIN:VEVENT
DTSTAMP:20260424T041002Z
DTSTART:20191123T123000Z
DTEND:20191123T140000Z
TRANSP:TRANSPARENT
PRIORITY:0
SUMMARY:DMS Girls BB Open Gym
LOCATION:DMS Gym
DESCRIPTION:Groups:\nDMS Staff\nDMS Girls Basketball\n\nSchools:\nDiscover
 y Middle School\n\nLocation:\nDMS Gym\n\n
URL;VALUE=URI:http://liberty53.tandem.co/index.php?type=view&action=event&
 id=368226
CREATED:20191116T212733Z
LAST-MODIFIED:20191116T212733Z
UID:event-368226-liberty53@intand.com
END:VEVENT
END:VCALENDAR
