BEGIN:VCALENDAR
VERSION:2.0
PRODID:-//Intand Corporation//Tandem//EN
METHOD:PUBLISH
BEGIN:VEVENT
DTSTAMP:20260424T091317Z
DTSTART:20191125T134000Z
DTEND:20191125T141000Z
TRANSP:TRANSPARENT
PRIORITY:0
SUMMARY:[Cancelled] LHS - Elliott - Parent Meeting
LOCATION:LHS Administrative Conference Room
DESCRIPTION:Groups:\nLHS SPED\n\nSchools:\nLiberty High School\n\nLocation
 :\nLHS Administrative Conference Room\n\n
URL;VALUE=URI:http://liberty53.tandem.co/index.php?type=view&action=event&
 id=368223
CREATED:20191115T192455Z
LAST-MODIFIED:20191122T210656Z
UID:event_request-368223-liberty53@intand.com
END:VEVENT
END:VCALENDAR
