BEGIN:VCALENDAR
VERSION:2.0
PRODID:-//Intand Corporation//Tandem//EN
METHOD:PUBLISH
BEGIN:VEVENT
DTSTAMP:20260424T033432Z
DTSTART:20200207T000000Z
DTEND:20200207T013000Z
TRANSP:TRANSPARENT
PRIORITY:0
SUMMARY:LN - College and Career Readiness Advisory Board
LOCATION:LNHS LMC - 200
DESCRIPTION:Groups:\nDAC Innovation & Learning\n\nSchools:\nDistrict Admin
 istration Center\nLiberty North High School\n\nLocation:\nLNHS LMC - 200\n
 \n
URL;VALUE=URI:http://liberty53.tandem.co/index.php?type=view&action=event&
 id=368200
CREATED:20191114T202252Z
LAST-MODIFIED:20191118T134852Z
UID:event_request-368200-liberty53@intand.com
END:VEVENT
END:VCALENDAR
