BEGIN:VCALENDAR
VERSION:2.0
PRODID:-//Intand Corporation//Tandem//EN
METHOD:PUBLISH
BEGIN:VEVENT
DTSTAMP:20260424T063617Z
DTSTART:20191218T140000Z
DTEND:20191218T143000Z
TRANSP:TRANSPARENT
PRIORITY:0
SUMMARY:LN FRESH- Club Meeting 
LOCATION:LNHS Room 707
DESCRIPTION:Groups:\nLNHS Peer Helpers\n\nSchools:\nLiberty North High Sch
 ool\n\nLocation:\nLNHS Room 707\n\n
URL;VALUE=URI:http://liberty53.tandem.co/index.php?type=view&action=event&
 id=368193
CREATED:20191114T190413Z
LAST-MODIFIED:20191118T134726Z
UID:event_request-368193-liberty53@intand.com
END:VEVENT
END:VCALENDAR
