BEGIN:VCALENDAR
VERSION:2.0
PRODID:-//Intand Corporation//Tandem//EN
METHOD:PUBLISH
BEGIN:VEVENT
DTSTAMP:20260424T055525Z
DTSTART:20191114T190000Z
DTEND:20191114T193500Z
TRANSP:TRANSPARENT
PRIORITY:0
SUMMARY:LHS - Diversity Leadership Meeting
LOCATION:LHS Guidance Conference Room
DESCRIPTION:Groups:\nLHS Counselors\n\nSchools:\nLiberty High School\n\nLo
 cation:\nLHS Guidance Conference Room\n\n
URL;VALUE=URI:http://liberty53.tandem.co/index.php?type=view&action=event&
 id=368180
CREATED:20191113T215650Z
LAST-MODIFIED:20191115T183250Z
UID:event_request-368180-liberty53@intand.com
END:VEVENT
END:VCALENDAR
