BEGIN:VCALENDAR
VERSION:2.0
PRODID:-//Intand Corporation//Tandem//EN
METHOD:PUBLISH
BEGIN:VEVENT
DTSTAMP:20260424T043606Z
DTSTART:20191118T190000Z
DTEND:20191118T200000Z
TRANSP:TRANSPARENT
PRIORITY:0
SUMMARY:Meeting - SE
LOCATION:LHS Guidance Conference Room
DESCRIPTION:Groups:\nLHS Counselors\n\nSchools:\nLiberty High School\n\nLo
 cation:\nLHS Guidance Conference Room\n\n
URL;VALUE=URI:http://liberty53.tandem.co/index.php?type=view&action=event&
 id=368125
CREATED:20191113T153606Z
LAST-MODIFIED:20191115T183251Z
UID:event_request-368125-liberty53@intand.com
END:VEVENT
END:VCALENDAR
