BEGIN:VCALENDAR
VERSION:2.0
PRODID:-//Intand Corporation//Tandem//EN
METHOD:PUBLISH
BEGIN:VEVENT
DTSTAMP:20260424T014927Z
DTSTART:20191201T160000Z
DTEND:20191201T220000Z
TRANSP:TRANSPARENT
PRIORITY:0
SUMMARY:LHS Mock Trial
LOCATION:LHS LMC Lab 301
DESCRIPTION:Schools:\nLiberty High School\n\nLocation:\nLHS LMC Lab 301\n\n
URL;VALUE=URI:http://liberty53.tandem.co/index.php?type=view&action=event&
 id=368099
CREATED:20191112T142525Z
LAST-MODIFIED:20191112T142525Z
UID:event-368099-liberty53@intand.com
END:VEVENT
END:VCALENDAR
