BEGIN:VCALENDAR
VERSION:2.0
PRODID:-//Intand Corporation//Tandem//EN
METHOD:PUBLISH
BEGIN:VEVENT
DTSTAMP:20260424T014913Z
DTSTART:20191213T210000Z
DTEND:20191214T040000Z
TRANSP:TRANSPARENT
PRIORITY:0
SUMMARY:Book Club Movie Night
LOCATION:LNHS LMC - 200
DESCRIPTION:Groups:\nLNHS Grade 9\nLNHS Grade 12\nLNHS Grade 11\nLNHS Grad
 e 10\n\nSchools:\nLiberty North High School\n\nLocation:\nLNHS LMC - 200\n
 \n
URL;VALUE=URI:http://liberty53.tandem.co/index.php?type=view&action=event&
 id=368094
CREATED:20191112T134051Z
LAST-MODIFIED:20191112T233620Z
UID:event_request-368094-liberty53@intand.com
END:VEVENT
END:VCALENDAR
