BEGIN:VCALENDAR
VERSION:2.0
PRODID:-//Intand Corporation//Tandem//EN
METHOD:PUBLISH
BEGIN:VEVENT
DTSTAMP:20260424T033110Z
DTSTART:20191121T230000Z
DTEND:20191122T000000Z
TRANSP:TRANSPARENT
PRIORITY:0
SUMMARY:EF Tour Meeting (France Trip)
LOCATION:SVMS LGIR
DESCRIPTION:Groups:\nSVMS Staff\n\nSchools:\nSouth Valley Middle School\n\
 nLocation:\nSVMS LGIR\n\n
URL;VALUE=URI:http://liberty53.tandem.co/index.php?type=view&action=event&
 id=368075
CREATED:20191111T004620Z
LAST-MODIFIED:20191111T184236Z
UID:event_request-368075-liberty53@intand.com
END:VEVENT
END:VCALENDAR
