BEGIN:VCALENDAR
VERSION:2.0
PRODID:-//Intand Corporation//Tandem//EN
METHOD:PUBLISH
BEGIN:VEVENT
DTSTAMP:20260424T063816Z
DTSTART:20200119T010000Z
DTEND:20200119T050000Z
TRANSP:TRANSPARENT
PRIORITY:0
SUMMARY:Courtwarming Dance
LOCATION:LHS Cokely Gym
DESCRIPTION:Groups:\nLHS Students\nLHS Student Council\n\nSchools:\nLibert
 y High School\n\nLocation:\nLHS Cokely Gym\n\n
URL;VALUE=URI:http://liberty53.tandem.co/index.php?type=view&action=event&
 id=368022
CREATED:20191108T182734Z
LAST-MODIFIED:20191115T183251Z
UID:event_request-368022-liberty53@intand.com
END:VEVENT
END:VCALENDAR
