BEGIN:VCALENDAR
VERSION:2.0
PRODID:-//Intand Corporation//Tandem//EN
METHOD:PUBLISH
BEGIN:VEVENT
DTSTAMP:20260424T014952Z
DTSTART:20191212T213000Z
DTEND:20191213T013000Z
TRANSP:TRANSPARENT
PRIORITY:0
SUMMARY:Coffee Study Night
LOCATION:LHS LMC Main Floor
DESCRIPTION:LINK sponsored Coffee Study Night\n\nGroups:\nLHS LINK Crew\n\
 nSchools:\nLiberty High School\n\nLocation:\nLHS LMC Main Floor\n\n
URL;VALUE=URI:http://liberty53.tandem.co/index.php?type=view&action=event&
 id=367978
CREATED:20191107T212953Z
LAST-MODIFIED:20191108T152755Z
UID:event_request-367978-liberty53@intand.com
END:VEVENT
END:VCALENDAR
