BEGIN:VCALENDAR
VERSION:2.0
PRODID:-//Intand Corporation//Tandem//EN
METHOD:PUBLISH
BEGIN:VEVENT
DTSTAMP:20260424T063612Z
DTSTART:20191116T120000Z
DTEND:20191116T190000Z
TRANSP:TRANSPARENT
PRIORITY:0
SUMMARY:Transportation Mini Roadeo
LOCATION:LNHS Parking Lot
DESCRIPTION:Groups:\nSSC Transportation Staff\n\nSchools:\nDistrict Admini
 stration Center\nLiberty North High School\n\nLocation:\nLNHS Parking Lot\
 n\n
URL;VALUE=URI:http://liberty53.tandem.co/index.php?type=view&action=event&
 id=367939
CREATED:20191107T121906Z
LAST-MODIFIED:20191110T154620Z
UID:event_request-367939-liberty53@intand.com
END:VEVENT
END:VCALENDAR
