BEGIN:VCALENDAR
VERSION:2.0
PRODID:-//Intand Corporation//Tandem//EN
METHOD:PUBLISH
BEGIN:VEVENT
DTSTAMP:20260424T073947Z
DTSTART:20191212T163000Z
DTEND:20191212T183000Z
TRANSP:TRANSPARENT
PRIORITY:0
SUMMARY:SVMS-KREBS HOLIDAY FEAST
LOCATION:SVMS LGIR
DESCRIPTION:Groups:\nSVMS Students\nSVMS Staff\nSVMS Sped Paraprofessional
 s\n\nSchools:\nSouth Valley Middle School\n\nLocation:\nSVMS LGIR\n\n
URL;VALUE=URI:http://liberty53.tandem.co/index.php?type=view&action=event&
 id=367858
CREATED:20191105T140646Z
LAST-MODIFIED:20191105T140646Z
UID:event-367858-liberty53@intand.com
END:VEVENT
END:VCALENDAR
