BEGIN:VCALENDAR
VERSION:2.0
PRODID:-//Intand Corporation//Tandem//EN
METHOD:PUBLISH
BEGIN:VEVENT
DTSTAMP:20260424T073900Z
DTSTART:20191121T233000Z
DTEND:20191122T003000Z
TRANSP:TRANSPARENT
PRIORITY:0
SUMMARY:Lady Jay Basketball Parent Meeting
LOCATION:LHS Cafeteria
DESCRIPTION:Groups:\nLHS Girls Basketball\n\nSchools:\nLiberty High School
 \n\nLocation:\nLHS Cafeteria\n\n
URL;VALUE=URI:http://liberty53.tandem.co/index.php?type=view&action=event&
 id=367817
CREATED:20191104T163402Z
LAST-MODIFIED:20191104T165555Z
UID:event_request-367817-liberty53@intand.com
END:VEVENT
END:VCALENDAR
