BEGIN:VCALENDAR
VERSION:2.0
PRODID:-//Intand Corporation//Tandem//EN
METHOD:PUBLISH
BEGIN:VEVENT
DTSTAMP:20260424T073858Z
DTSTART:20191204T003000Z
DTEND:20191204T023000Z
TRANSP:TRANSPARENT
PRIORITY:0
SUMMARY:LN M S&D Banquet
LOCATION:LNHS Cafeteria (GH HVAC)
DESCRIPTION:Setup: 5:30 pm\nBreakdown: 9:00 pm\n\nGroups:\nLNHS Swim & Div
 e - Boys\n\nSchools:\nLiberty North High School\n\nLocation:\nLNHS Cafeter
 ia (GH HVAC)\n\n
URL;VALUE=URI:http://liberty53.tandem.co/index.php?type=view&action=event&
 id=367812
CREATED:20191104T145533Z
LAST-MODIFIED:20191104T220141Z
UID:event_request-367812-liberty53@intand.com
END:VEVENT
END:VCALENDAR
