BEGIN:VCALENDAR
VERSION:2.0
PRODID:-//Intand Corporation//Tandem//EN
METHOD:PUBLISH
BEGIN:VEVENT
DTSTAMP:20260424T014512Z
DTSTART:20191126T000000Z
DTEND:20191126T020000Z
TRANSP:TRANSPARENT
PRIORITY:0
SUMMARY: SC - Girl Scout Troop 2120 (Shaffer)
LOCATION:SCE Great Hall
DESCRIPTION:Groups:\nGirl Scout Troop 2120\n\nSchools:\nShoal Creek Elemen
 tary\n\nLocation:\nSCE Great Hall\n\n
URL;VALUE=URI:http://liberty53.tandem.co/index.php?type=view&action=event&
 id=367796
CREATED:20191101T191421Z
LAST-MODIFIED:20191101T191421Z
UID:event-367796-liberty53@intand.com
END:VEVENT
END:VCALENDAR
