BEGIN:VCALENDAR
VERSION:2.0
PRODID:-//Intand Corporation//Tandem//EN
METHOD:PUBLISH
BEGIN:VEVENT
DTSTAMP:20260424T014951Z
DTSTART:20200209T020000Z
DTEND:20200209T050000Z
TRANSP:TRANSPARENT
PRIORITY:0
SUMMARY:[Cancelled] Courtwarming Dance
LOCATION:LHS Cokely Gym
DESCRIPTION:Groups:\nLHS Student Council\n\nSchools:\nLiberty High School\
 n\nLocation:\nLHS Cokely Gym\n\n
URL;VALUE=URI:http://liberty53.tandem.co/index.php?type=view&action=event&
 id=367795
CREATED:20191101T181034Z
LAST-MODIFIED:20191210T192230Z
UID:event_request-367795-liberty53@intand.com
END:VEVENT
END:VCALENDAR
