BEGIN:VCALENDAR
VERSION:2.0
PRODID:-//Intand Corporation//Tandem//EN
METHOD:PUBLISH
BEGIN:VEVENT
DTSTAMP:20260424T033509Z
DTSTART:20200208T030000Z
DTEND:20200208T110000Z
TRANSP:TRANSPARENT
PRIORITY:0
SUMMARY:[Cancelled] Senior Girls Lock-In
LOCATION:LHS Cokely Gym\, LHS Fieldhouse Gym
DESCRIPTION:Groups:\nLHS Student Council\n\nSchools:\nLiberty High School\
 n\nLocations:\nLHS Cokely Gym\nLHS Fieldhouse Gym\n\n
URL;VALUE=URI:http://liberty53.tandem.co/index.php?type=view&action=event&
 id=367794
CREATED:20191101T175106Z
LAST-MODIFIED:20191115T183251Z
UID:event_request-367794-liberty53@intand.com
END:VEVENT
END:VCALENDAR
