BEGIN:VCALENDAR
VERSION:2.0
PRODID:-//Intand Corporation//Tandem//EN
METHOD:PUBLISH
BEGIN:VEVENT
DTSTAMP:20260424T075934Z
DTSTART:20200219T000000Z
DTEND:20200219T010000Z
TRANSP:TRANSPARENT
PRIORITY:0
SUMMARY:LN - Trip Meeting
LOCATION:LNHS LMC - 200
DESCRIPTION:Groups:\nLNHS Staff\n\nSchools:\nLiberty North High School\n\n
 Location:\nLNHS LMC - 200\n\n
URL;VALUE=URI:http://liberty53.tandem.co/index.php?type=view&action=event&
 id=367790
CREATED:20191031T195826Z
LAST-MODIFIED:20191103T222158Z
UID:event_request-367790-liberty53@intand.com
END:VEVENT
END:VCALENDAR
