BEGIN:VCALENDAR
VERSION:2.0
PRODID:-//Intand Corporation//Tandem//EN
METHOD:PUBLISH
BEGIN:VEVENT
DTSTAMP:20260424T050212Z
DTSTART:20191120T003000Z
DTEND:20191120T030000Z
TRANSP:TRANSPARENT
PRIORITY:0
SUMMARY:[Cancelled] LN M S&D Banquet
LOCATION:LNHS Cafeteria (GH HVAC)
DESCRIPTION:Setup: 5:00 pm\nBreakdown: 9:30 pm\n\nGroups:\nLNHS Swim & Div
 e - Boys\n\nSchools:\nLiberty North High School\n\nLocation:\nLNHS Cafeter
 ia (GH HVAC)\n\n
URL;VALUE=URI:http://liberty53.tandem.co/index.php?type=view&action=event&
 id=367479
CREATED:20191031T134058Z
LAST-MODIFIED:20191104T220141Z
UID:event_request-367479-liberty53@intand.com
END:VEVENT
END:VCALENDAR
