BEGIN:VCALENDAR
VERSION:2.0
PRODID:-//Intand Corporation//Tandem//EN
METHOD:PUBLISH
BEGIN:VEVENT
DTSTAMP:20260424T080148Z
DTSTART:20200128T000000Z
DTEND:20200128T055959Z
TRANSP:TRANSPARENT
PRIORITY:0
SUMMARY:LN WBB 9 A&B vs LHS
LOCATION:LNHS Aux Gym - 407 (GH HVAC)
DESCRIPTION:Breakdown: TBD\n\nReturn: TBD\n\nGroups:\nLNHS Basketball - Gi
 rls C-Team\nLNHS Basketball - Girls Freshman\n\nSchools:\nLiberty North Hi
 gh School\n\nLocation:\nLNHS Aux Gym - 407 (GH HVAC)\n\n
URL;VALUE=URI:http://liberty53.tandem.co/index.php?type=view&action=event&
 id=367460
CREATED:20191030T192711Z
LAST-MODIFIED:20191030T192711Z
UID:event-367460-liberty53@intand.com
END:VEVENT
END:VCALENDAR
