BEGIN:VCALENDAR
VERSION:2.0
PRODID:-//Intand Corporation//Tandem//EN
METHOD:PUBLISH
BEGIN:VEVENT
DTSTAMP:20260424T023615Z
DTSTART:20191118T120000Z
DTEND:20191118T133000Z
TRANSP:TRANSPARENT
PRIORITY:0
SUMMARY:Freshman Boys Basketball Practice
LOCATION:LHS Fieldhouse Gym
DESCRIPTION:Groups:\nLHS Boys Basketball Freshman\n\nSchools:\nLiberty Hig
 h School\n\nLocation:\nLHS Fieldhouse Gym\n\n
URL;VALUE=URI:http://liberty53.tandem.co/index.php?type=view&action=event&
 id=367425
CREATED:20191030T175647Z
LAST-MODIFIED:20191030T194252Z
UID:event_request-367425-liberty53@intand.com
END:VEVENT
END:VCALENDAR
