BEGIN:VCALENDAR
VERSION:2.0
PRODID:-//Intand Corporation//Tandem//EN
METHOD:PUBLISH
BEGIN:VEVENT
DTSTAMP:20260424T080143Z
DTSTART:20191114T120000Z
DTEND:20191114T133000Z
TRANSP:TRANSPARENT
PRIORITY:0
SUMMARY:Freshman Boys Basketball Practice
LOCATION:LHS Fieldhouse Gym
DESCRIPTION:Groups:\nLHS Boys Basketball Freshman\n\nSchools:\nLiberty Hig
 h School\n\nLocation:\nLHS Fieldhouse Gym\n\n
URL;VALUE=URI:http://liberty53.tandem.co/index.php?type=view&action=event&
 id=367424
CREATED:20191030T175514Z
LAST-MODIFIED:20191030T194252Z
UID:event_request-367424-liberty53@intand.com
END:VEVENT
END:VCALENDAR
