BEGIN:VCALENDAR
VERSION:2.0
PRODID:-//Intand Corporation//Tandem//EN
METHOD:PUBLISH
BEGIN:VEVENT
DTSTAMP:20260424T043339Z
DTSTART:20200128T133000Z
DTEND:20200128T210000Z
TRANSP:TRANSPARENT
PRIORITY:0
SUMMARY:Life Classes
LOCATION:HMS Room 401
DESCRIPTION:Groups:\nHMS Students\n\nSchools:\nHeritage Middle School\n\nL
 ocation:\nHMS Room 401\n\n
URL;VALUE=URI:http://liberty53.tandem.co/index.php?type=view&action=event&
 id=367338
CREATED:20191029T174331Z
LAST-MODIFIED:20191029T174331Z
UID:event-367338-liberty53@intand.com
END:VEVENT
END:VCALENDAR
