BEGIN:VCALENDAR
VERSION:2.0
PRODID:-//Intand Corporation//Tandem//EN
METHOD:PUBLISH
BEGIN:VEVENT
DTSTAMP:20260424T080003Z
DTSTART:20200222T000000Z
DTEND:20200222T055959Z
TRANSP:TRANSPARENT
PRIORITY:0
SUMMARY:LN MBB JV/V vs LHS
LOCATION:LNHS Fieldhouse (GH HVAC)\, LNHS Aux Gym - 407 (GH HVAC)
DESCRIPTION:Breakdown: TBD\n\nReturn: TBD\n\nGroups:\nLNHS Basketball - Bo
 ys Varsity\nLNHS Basketball - Boys JV\nLNHS Basketball - Boys JV/Varsity\n
 \nSchools:\nLiberty North High School\n\nLocations:\nLNHS Fieldhouse (GH H
 VAC)\nLNHS Aux Gym - 407 (GH HVAC)\n\n
URL;VALUE=URI:http://liberty53.tandem.co/index.php?type=view&action=event&
 id=367324
CREATED:20191029T143923Z
LAST-MODIFIED:20191030T171416Z
UID:event-367324-liberty53@intand.com
END:VEVENT
END:VCALENDAR
