BEGIN:VCALENDAR
VERSION:2.0
PRODID:-//Intand Corporation//Tandem//EN
METHOD:PUBLISH
BEGIN:VEVENT
DTSTAMP:20260424T031629Z
DTSTART:20191213T220000Z
DTEND:20191214T055959Z
TRANSP:TRANSPARENT
PRIORITY:0
SUMMARY:LN MBB V LN Invite
LOCATION:LNHS Fieldhouse (GH HVAC)
DESCRIPTION:Breakdown: TBD\n\nReturn: TBD\n\nGroups:\nLNHS Basketball - Bo
 ys Varsity\n\nSchools:\nLiberty North High School\n\nLocation:\nLNHS Field
 house (GH HVAC)\n\n
URL;VALUE=URI:http://liberty53.tandem.co/index.php?type=view&action=event&
 id=367310
CREATED:20191029T142445Z
LAST-MODIFIED:20191029T142445Z
UID:event-367310-liberty53@intand.com
END:VEVENT
END:VCALENDAR
