BEGIN:VCALENDAR
VERSION:2.0
PRODID:-//Intand Corporation//Tandem//EN
METHOD:PUBLISH
BEGIN:VEVENT
DTSTAMP:20260424T031214Z
DTSTART:20191124T170000Z
DTEND:20191124T180000Z
TRANSP:TRANSPARENT
PRIORITY:0
SUMMARY:1 on 1 Volleyball
LOCATION:LHS Fieldhouse Gym
DESCRIPTION:Groups:\nLHS Wrestling\n\nSchools:\nLiberty High School\n\nLoc
 ation:\nLHS Fieldhouse Gym\n\n
URL;VALUE=URI:http://liberty53.tandem.co/index.php?type=view&action=event&
 id=367263
CREATED:20191028T143828Z
LAST-MODIFIED:20191028T171011Z
UID:event_request-367263-liberty53@intand.com
END:VEVENT
END:VCALENDAR
