BEGIN:VCALENDAR
VERSION:2.0
PRODID:-//Intand Corporation//Tandem//EN
METHOD:PUBLISH
BEGIN:VEVENT
DTSTAMP:20260424T014506Z
DTSTART:20191025T000000Z
DTEND:20191025T020000Z
TRANSP:TRANSPARENT
PRIORITY:0
SUMMARY:Football
LOCATION:LNHS Learning Stairs
DESCRIPTION:Groups:\nLNHS Football - Varsity\n\nSchools:\nLiberty North Hi
 gh School\n\nLocation:\nLNHS Learning Stairs\n\n
URL;VALUE=URI:http://liberty53.tandem.co/index.php?type=view&action=event&
 id=367193
CREATED:20191024T181150Z
LAST-MODIFIED:20191029T125702Z
UID:event_request-367193-liberty53@intand.com
END:VEVENT
END:VCALENDAR
