BEGIN:VCALENDAR
VERSION:2.0
PRODID:-//Intand Corporation//Tandem//EN
METHOD:PUBLISH
BEGIN:VEVENT
DTSTAMP:20260424T043341Z
DTSTART:20191113T210000Z
DTEND:20191113T220000Z
TRANSP:TRANSPARENT
PRIORITY:0
SUMMARY:LHS - Parent Meeting- Williams
LOCATION:LHS Guidance Conference Room
DESCRIPTION:Groups:\nLHS SPED\n\nSchools:\nLiberty High School\n\nLocation
 :\nLHS Guidance Conference Room\n\n
URL;VALUE=URI:http://liberty53.tandem.co/index.php?type=view&action=event&
 id=367187
CREATED:20191024T164805Z
LAST-MODIFIED:20191024T180935Z
UID:event_request-367187-liberty53@intand.com
END:VEVENT
END:VCALENDAR
