BEGIN:VCALENDAR
VERSION:2.0
PRODID:-//Intand Corporation//Tandem//EN
METHOD:PUBLISH
BEGIN:VEVENT
DTSTAMP:20260424T031243Z
DTSTART:20191028T223000Z
DTEND:20191029T000000Z
TRANSP:TRANSPARENT
PRIORITY:0
SUMMARY:All-District Band Audition Recordings
LOCATION:LNHS Room 616 Band
DESCRIPTION:Setup: 5:00 pm\nBreakdown: 7:30 pm\n\nGroups:\nLNHS Band\n\nSc
 hools:\nLiberty North High School\n\nLocation:\nLNHS Room 616 Band\n\n
URL;VALUE=URI:http://liberty53.tandem.co/index.php?type=view&action=event&
 id=367178
CREATED:20191024T130059Z
LAST-MODIFIED:20191024T133153Z
UID:event_request-367178-liberty53@intand.com
END:VEVENT
END:VCALENDAR
