BEGIN:VCALENDAR
VERSION:2.0
PRODID:-//Intand Corporation//Tandem//EN
METHOD:PUBLISH
BEGIN:VEVENT
DTSTAMP:20260424T033221Z
DTSTART:20191028T124000Z
DTEND:20191028T132000Z
TRANSP:TRANSPARENT
PRIORITY:0
SUMMARY:504 Meeting - McCallum
LOCATION:LHS Administrative Conference Room
DESCRIPTION:Groups:\nLHS Counselors\n\nSchools:\nLiberty High School\n\nLo
 cation:\nLHS Administrative Conference Room\n\n
URL;VALUE=URI:http://liberty53.tandem.co/index.php?type=view&action=event&
 id=367064
CREATED:20191022T134711Z
LAST-MODIFIED:20191022T142646Z
UID:event_request-367064-liberty53@intand.com
END:VEVENT
END:VCALENDAR
