BEGIN:VCALENDAR
VERSION:2.0
PRODID:-//Intand Corporation//Tandem//EN
METHOD:PUBLISH
BEGIN:VEVENT
DTSTAMP:20260424T023652Z
DTSTART:20191028T130000Z
DTEND:20191028T140000Z
TRANSP:TRANSPARENT
PRIORITY:0
SUMMARY:LHS - Gonino Parent Mtg
LOCATION:LHS Guidance Conference Room
DESCRIPTION:Groups:\nLHS SPED\n\nSchools:\nLiberty High School\n\nLocation
 :\nLHS Guidance Conference Room\n\n
URL;VALUE=URI:http://liberty53.tandem.co/index.php?type=view&action=event&
 id=367059
CREATED:20191022T122803Z
LAST-MODIFIED:20191022T142646Z
UID:event_request-367059-liberty53@intand.com
END:VEVENT
END:VCALENDAR
