BEGIN:VCALENDAR
VERSION:2.0
PRODID:-//Intand Corporation//Tandem//EN
METHOD:PUBLISH
BEGIN:VEVENT
DTSTAMP:20260424T031214Z
DTSTART:20200114T003000Z
DTEND:20200114T023000Z
TRANSP:TRANSPARENT
PRIORITY:0
SUMMARY:SC - Girl Scout Troop 3499 (Lewis)
LOCATION:SCE Great Hall
DESCRIPTION:Groups:\nGirl Scout Troop #3499\n\nSchools:\nShoal Creek Eleme
 ntary\n\nLocation:\nSCE Great Hall\n\n
URL;VALUE=URI:http://liberty53.tandem.co/index.php?type=view&action=event&
 id=367014
CREATED:20191018T201006Z
LAST-MODIFIED:20191018T201006Z
UID:event-367014-liberty53@intand.com
END:VEVENT
END:VCALENDAR
