BEGIN:VCALENDAR
VERSION:2.0
PRODID:-//Intand Corporation//Tandem//EN
METHOD:PUBLISH
BEGIN:VEVENT
DTSTAMP:20260424T014840Z
DTSTART:20200205T221000Z
DTEND:20200205T231000Z
TRANSP:TRANSPARENT
PRIORITY:0
SUMMARY:[Cancelled] WH - Young Rembrandts - Winter/Spring Session
LOCATION:WHE Library
DESCRIPTION:Groups:\nYoung Rembrandt's Art Enrichment\n\nSchools:\nWarren 
 Hills Elementary\n\nLocation:\nWHE Library\n\n
URL;VALUE=URI:http://liberty53.tandem.co/index.php?type=view&action=event&
 id=366929
CREATED:20191017T195233Z
LAST-MODIFIED:20200203T183819Z
UID:event-366929-liberty53@intand.com
END:VEVENT
END:VCALENDAR
